Workbook

Sheet Sheet1
A1: 2021三明市第五届中小学教师教学技能大赛综合素质比赛成绩公示
A2: 选手顺序号 | B2: 笔试项目 | C2: 面试项目 | D2: 总分
A3: 1 | B3: =[1]笔试项目!$H3 -> 63.3 | C3: =[1]面试项目!$J3 -> 86 | D3: =B3*0.4+C3*0.6 -> 76.92
A4: 2 | B4: =[1]笔试项目!$H4 -> 48 | C4: =[1]面试项目!$J4 -> 90.6 | D4: =B4*0.4+C4*0.6 -> 73.56
A5: 3 | B5: =[1]笔试项目!$H5 -> 66.3 | C5: =[1]面试项目!$J5 -> 82.8 | D5: =B5*0.4+C5*0.6 -> 76.2
A6: 4 | B6: =[1]笔试项目!$H6 -> 44.3 | C6: =[1]面试项目!$J6 -> 91.666667 | D6: =B6*0.4+C6*0.6 -> 72.72
A7: 5 | B7: =[1]笔试项目!$H7 -> 60.3 | C7: =[1]面试项目!$J7 -> 90.333333 | D7: =B7*0.4+C7*0.6 -> 78.32
A8: 6 | B8: =[1]笔试项目!$H8 -> 64.3 | C8: =[1]面试项目!$J8 -> 77.2 | D8: =B8*0.4+C8*0.6 -> 72.04
A9: 7 | B9: =[1]笔试项目!$H9 -> 45.3 | C9: =[1]面试项目!$J9 -> 75.2 | D9: =B9*0.4+C9*0.6 -> 63.24
A10: 8 | B10: =[1]笔试项目!$H10 -> 63 | C10: =[1]面试项目!$J10 -> 82.4 | D10: =B10*0.4+C10*0.6 -> 74.64
A11: 9 | B11: =[1]笔试项目!$H11 -> 62.3 | C11: =[1]面试项目!$J11 -> 79.2 | D11: =B11*0.4+C11*0.6 -> 72.44
A12: 10 | B12: =[1]笔试项目!$H12 -> 59.4 | C12: =[1]面试项目!$J12 -> 87.8 | D12: =B12*0.4+C12*0.6 -> 76.44
A13: 11 | B13: =[1]笔试项目!$H13 -> 52.4 | C13: =[1]面试项目!$J13 -> 81 | D13: =B13*0.4+C13*0.6 -> 69.56
A14: 12 | B14: =[1]笔试项目!$H14 -> 69.7 | C14: =[1]面试项目!$J14 -> 84.6 | D14: =B14*0.4+C14*0.6 -> 78.64
... A48: 46 | B48: =[1]笔试项目!$H48 -> 56.7 | C48: =[1]面试项目!$J48 -> 93.6 | D48: =B48*0.4+C48*0.6 -> 78.84
